Package: SIMLR Version: 1.33.0 Command: /Library/Frameworks/R.framework/Resources/bin/R CMD build --keep-empty-dirs --no-resave-data SIMLR StartedAt: 2025-02-09 18:29:07 -0500 (Sun, 09 Feb 2025) EndedAt: 2025-02-09 18:31:20 -0500 (Sun, 09 Feb 2025) EllapsedTime: 133.7 seconds RetCode: 0 Status: OK PackageFile: SIMLR_1.33.0.tar.gz PackageFileSize: 4.101 MiB