Package: SIMLR Version: 1.33.0 Command: /Library/Frameworks/R.framework/Resources/bin/R CMD check --install=check:SIMLR.install-out.txt --library=/Library/Frameworks/R.framework/Resources/library --no-vignettes --timings SIMLR_1.33.0.tar.gz StartedAt: 2025-02-12 23:24:55 -0500 (Wed, 12 Feb 2025) EndedAt: 2025-02-12 23:30:16 -0500 (Wed, 12 Feb 2025) EllapsedTime: 321.8 seconds RetCode: 0 Status: OK CheckDir: SIMLR.Rcheck Warnings: 0