Package: SIMLR Version: 1.33.0 Command: /Library/Frameworks/R.framework/Resources/bin/R CMD INSTALL SIMLR StartedAt: 2025-02-09 15:06:37 -0500 (Sun, 09 Feb 2025) EndedAt: 2025-02-09 15:07:02 -0500 (Sun, 09 Feb 2025) EllapsedTime: 25.4 seconds RetCode: 0 Status: OK