Package: SIMLR Version: 1.33.0 Command: /home/biocbuild/bbs-3.21-bioc/R/bin/R CMD build --keep-empty-dirs --no-resave-data SIMLR StartedAt: 2025-02-12 19:13:56 -0500 (Wed, 12 Feb 2025) EndedAt: 2025-02-12 19:15:44 -0500 (Wed, 12 Feb 2025) EllapsedTime: 108.1 seconds RetCode: 0 Status: OK PackageFile: SIMLR_1.33.0.tar.gz PackageFileSize: 4.12 MiB