Package: SIMLR Version: 1.33.0 Command: /home/biocbuild/bbs-3.21-bioc/R/bin/R CMD check --install=check:SIMLR.install-out.txt --library=/home/biocbuild/bbs-3.21-bioc/R/site-library --timings SIMLR_1.33.0.tar.gz StartedAt: 2025-02-10 02:41:06 -0500 (Mon, 10 Feb 2025) EndedAt: 2025-02-10 02:47:02 -0500 (Mon, 10 Feb 2025) EllapsedTime: 356.4 seconds RetCode: 0 Status: OK CheckDir: SIMLR.Rcheck Warnings: 0