Package: SIMLR Version: 1.33.0 Command: rm -rf SIMLR.buildbin-libdir && mkdir SIMLR.buildbin-libdir && E:\biocbuild\bbs-3.21-bioc\R\bin\R.exe CMD INSTALL --build --library=SIMLR.buildbin-libdir SIMLR_1.33.0.tar.gz StartedAt: 2025-02-10 08:43:58 -0500 (Mon, 10 Feb 2025) EndedAt: 2025-02-10 08:44:33 -0500 (Mon, 10 Feb 2025) EllapsedTime: 34.9 seconds RetCode: 0 Status: OK PackageFile: SIMLR_1.33.0.zip PackageFileSize: 4.342 MiB