Package: SIMLR Version: 1.33.0 Command: chmod a+r SIMLR -R && E:\biocbuild\bbs-3.21-bioc\R\bin\R.exe CMD build --keep-empty-dirs --no-resave-data SIMLR StartedAt: 2025-02-09 21:41:59 -0500 (Sun, 09 Feb 2025) EndedAt: 2025-02-09 21:44:32 -0500 (Sun, 09 Feb 2025) EllapsedTime: 153.0 seconds RetCode: 0 Status: OK PackageFile: SIMLR_1.33.0.tar.gz PackageFileSize: 3.911 MiB