Package: SMAD Version: 1.23.0 Command: /Library/Frameworks/R.framework/Resources/bin/R CMD check --install=check:SMAD.install-out.txt --library=/Library/Frameworks/R.framework/Resources/library --no-vignettes --timings SMAD_1.23.0.tar.gz StartedAt: 2025-02-09 23:42:40 -0500 (Sun, 09 Feb 2025) EndedAt: 2025-02-09 23:43:52 -0500 (Sun, 09 Feb 2025) EllapsedTime: 72.1 seconds RetCode: 0 Status: OK CheckDir: SMAD.Rcheck Warnings: 0