Package: SMAD Version: 1.23.0 Command: /home/biocbuild/bbs-3.21-bioc/R/bin/R CMD INSTALL SMAD StartedAt: 2025-02-09 15:09:19 -0500 (Sun, 09 Feb 2025) EndedAt: 2025-02-09 15:09:35 -0500 (Sun, 09 Feb 2025) EllapsedTime: 16.0 seconds RetCode: 0 Status: OK