Package: SMITE Version: 1.35.0 Command: /home/biocbuild/R/R/bin/R CMD build --keep-empty-dirs --no-resave-data SMITE StartedAt: 2025-01-29 02:26:54 -0000 (Wed, 29 Jan 2025) EndedAt: 2025-01-29 02:28:37 -0000 (Wed, 29 Jan 2025) EllapsedTime: 103.1 seconds RetCode: 0 Status: OK PackageFile: SMITE_1.35.0.tar.gz PackageFileSize: 3.105 MiB