Package: SMITE Version: 1.35.0 Command: /home/biocbuild/R/R/bin/R CMD check --install=check:SMITE.install-out.txt --library=/home/biocbuild/R/R/site-library --no-vignettes --timings SMITE_1.35.0.tar.gz StartedAt: 2025-01-28 15:28:00 -0000 (Tue, 28 Jan 2025) EndedAt: 2025-01-28 15:34:28 -0000 (Tue, 28 Jan 2025) EllapsedTime: 388.4 seconds RetCode: 0 Status: WARNINGS CheckDir: SMITE.Rcheck Warnings: 6