Package: SMITE Version: 1.35.0 Command: rm -rf SMITE.buildbin-libdir && mkdir SMITE.buildbin-libdir && /Users/biocbuild/BBS/utils/build-universal.sh SMITE_1.35.0.tar.gz /Library/Frameworks/R.framework/Resources/bin/R SMITE.buildbin-libdir StartedAt: 2025-02-10 01:17:27 -0500 (Mon, 10 Feb 2025) EndedAt: 2025-02-10 01:18:33 -0500 (Mon, 10 Feb 2025) EllapsedTime: 65.7 seconds RetCode: 0 Status: OK PackageFile: SMITE_1.35.0.tgz PackageFileSize: 3.578 MiB