Package: SNPRelate Version: 1.41.0 Command: /Library/Frameworks/R.framework/Resources/bin/R CMD INSTALL SNPRelate StartedAt: 2025-02-12 15:01:57 -0500 (Wed, 12 Feb 2025) EndedAt: 2025-02-12 15:02:06 -0500 (Wed, 12 Feb 2025) EllapsedTime: 8.9 seconds RetCode: 0 Status: OK