Package: SNPRelate Version: 1.41.0 Command: /Library/Frameworks/R.framework/Resources/bin/R CMD INSTALL SNPRelate StartedAt: 2025-02-12 15:06:44 -0500 (Wed, 12 Feb 2025) EndedAt: 2025-02-12 15:07:13 -0500 (Wed, 12 Feb 2025) EllapsedTime: 28.2 seconds RetCode: 0 Status: OK