Package: SNPediaR Version: 1.33.0 Command: /Library/Frameworks/R.framework/Resources/bin/R CMD check --install=check:SNPediaR.install-out.txt --library=/Library/Frameworks/R.framework/Resources/library --no-vignettes --timings SNPediaR_1.33.0.tar.gz StartedAt: 2025-02-09 21:27:28 -0500 (Sun, 09 Feb 2025) EndedAt: 2025-02-09 21:27:43 -0500 (Sun, 09 Feb 2025) EllapsedTime: 15.2 seconds RetCode: 0 Status: OK CheckDir: SNPediaR.Rcheck Warnings: 0