Package: SNPediaR Version: 1.33.0 Command: rm -rf SNPediaR.buildbin-libdir && mkdir SNPediaR.buildbin-libdir && /Users/biocbuild/BBS/utils/build-universal.sh SNPediaR_1.33.0.tar.gz /Library/Frameworks/R.framework/Resources/bin/R SNPediaR.buildbin-libdir StartedAt: 2025-02-10 01:17:37 -0500 (Mon, 10 Feb 2025) EndedAt: 2025-02-10 01:17:43 -0500 (Mon, 10 Feb 2025) EllapsedTime: 5.8 seconds RetCode: 0 Status: OK PackageFile: SNPediaR_1.33.0.tgz PackageFileSize: 244.2 KiB