Package: SNPhood Version: 1.37.0 Command: /Library/Frameworks/R.framework/Resources/bin/R CMD check --install=check:SNPhood.install-out.txt --library=/Library/Frameworks/R.framework/Resources/library --no-vignettes --timings SNPhood_1.37.0.tar.gz StartedAt: 2025-02-12 21:32:56 -0500 (Wed, 12 Feb 2025) EndedAt: 2025-02-12 21:36:44 -0500 (Wed, 12 Feb 2025) EllapsedTime: 227.6 seconds RetCode: 0 Status: OK CheckDir: SNPhood.Rcheck Warnings: 0