Package: SNPhood Version: 1.37.0 Command: /home/biocbuild/R/R/bin/R CMD build --keep-empty-dirs --no-resave-data SNPhood StartedAt: 2025-01-29 02:28:18 -0000 (Wed, 29 Jan 2025) EndedAt: 2025-01-29 02:35:13 -0000 (Wed, 29 Jan 2025) EllapsedTime: 415.3 seconds RetCode: 0 Status: OK PackageFile: SNPhood_1.37.0.tar.gz PackageFileSize: 5.392 MiB