Package: SNPhood Version: 1.37.0 Command: /home/biocbuild/R/R/bin/R CMD check --install=check:SNPhood.install-out.txt --library=/home/biocbuild/R/R/site-library --no-vignettes --timings SNPhood_1.37.0.tar.gz StartedAt: 2025-01-28 15:29:39 -0000 (Tue, 28 Jan 2025) EndedAt: 2025-01-28 15:42:46 -0000 (Tue, 28 Jan 2025) EllapsedTime: 786.8 seconds RetCode: 0 Status: OK CheckDir: SNPhood.Rcheck Warnings: 0