Package: SNPhood Version: 1.37.0 Command: /home/biocbuild/R/R/bin/R CMD INSTALL SNPhood StartedAt: 2025-01-29 19:56:39 -0000 (Wed, 29 Jan 2025) EndedAt: 2025-01-29 19:58:04 -0000 (Wed, 29 Jan 2025) EllapsedTime: 85.2 seconds RetCode: 0 Status: OK