Package: SNPhood Version: 1.37.0 Command: /home/biocbuild/bbs-3.21-bioc/R/bin/R CMD check --install=check:SNPhood.install-out.txt --library=/home/biocbuild/bbs-3.21-bioc/R/site-library --timings SNPhood_1.37.0.tar.gz StartedAt: 2025-02-13 02:49:00 -0500 (Thu, 13 Feb 2025) EndedAt: 2025-02-13 03:02:58 -0500 (Thu, 13 Feb 2025) EllapsedTime: 838.0 seconds RetCode: 0 Status: OK CheckDir: SNPhood.Rcheck Warnings: 0