Package: SNPhood Version: 1.37.0 Command: chmod a+r SNPhood -R && E:\biocbuild\bbs-3.21-bioc\R\bin\R.exe CMD build --keep-empty-dirs --no-resave-data SNPhood StartedAt: 2025-02-09 21:45:54 -0500 (Sun, 09 Feb 2025) EndedAt: 2025-02-09 21:51:29 -0500 (Sun, 09 Feb 2025) EllapsedTime: 335.5 seconds RetCode: 0 Status: OK PackageFile: SNPhood_1.37.0.tar.gz PackageFileSize: 5.061 MiB