Package: SPEM Version: 1.47.0 Command: /Library/Frameworks/R.framework/Resources/bin/R CMD INSTALL SPEM StartedAt: 2025-02-12 15:02:53 -0500 (Wed, 12 Feb 2025) EndedAt: 2025-02-12 15:02:58 -0500 (Wed, 12 Feb 2025) EllapsedTime: 5.1 seconds RetCode: 0 Status: OK