Package: SPEM Version: 1.47.0 Command: /home/biocbuild/R/R/bin/R CMD build --keep-empty-dirs --no-resave-data SPEM StartedAt: 2025-01-28 02:40:28 -0000 (Tue, 28 Jan 2025) EndedAt: 2025-01-28 02:40:37 -0000 (Tue, 28 Jan 2025) EllapsedTime: 9.0 seconds RetCode: 0 Status: OK PackageFile: SPEM_1.47.0.tar.gz PackageFileSize: 585.6 KiB