Package: SPEM Version: 1.47.0 Command: rm -rf SPEM.buildbin-libdir && mkdir SPEM.buildbin-libdir && /Users/biocbuild/BBS/utils/build-universal.sh SPEM_1.47.0.tar.gz /Library/Frameworks/R.framework/Resources/bin/R SPEM.buildbin-libdir StartedAt: 2025-02-05 01:04:21 -0500 (Wed, 05 Feb 2025) EndedAt: 2025-02-05 01:04:29 -0500 (Wed, 05 Feb 2025) EllapsedTime: 8.2 seconds RetCode: 0 Status: OK PackageFile: SPEM_1.47.0.tgz PackageFileSize: 498.3 KiB