Package: SPEM Version: 1.47.0 Command: /Library/Frameworks/R.framework/Resources/bin/R CMD build --keep-empty-dirs --no-resave-data SPEM StartedAt: 2025-02-04 18:26:15 -0500 (Tue, 04 Feb 2025) EndedAt: 2025-02-04 18:26:29 -0500 (Tue, 04 Feb 2025) EllapsedTime: 13.7 seconds RetCode: 0 Status: OK PackageFile: SPEM_1.47.0.tar.gz PackageFileSize: 600.6 KiB