Package: SPEM Version: 1.47.0 Command: /Library/Frameworks/R.framework/Resources/bin/R CMD check --install=check:SPEM.install-out.txt --library=/Library/Frameworks/R.framework/Resources/library --no-vignettes --timings SPEM_1.47.0.tar.gz StartedAt: 2025-02-04 23:31:06 -0500 (Tue, 04 Feb 2025) EndedAt: 2025-02-04 23:31:47 -0500 (Tue, 04 Feb 2025) EllapsedTime: 41.4 seconds RetCode: 0 Status: OK CheckDir: SPEM.Rcheck Warnings: 0