Package: SPEM Version: 1.47.0 Command: /home/biocbuild/bbs-3.21-bioc/R/bin/R CMD build --keep-empty-dirs --no-resave-data SPEM StartedAt: 2025-02-04 19:22:56 -0500 (Tue, 04 Feb 2025) EndedAt: 2025-02-04 19:23:04 -0500 (Tue, 04 Feb 2025) EllapsedTime: 8.0 seconds RetCode: 0 Status: OK PackageFile: SPEM_1.47.0.tar.gz PackageFileSize: 600.9 KiB