Package: SPEM Version: 1.47.0 Command: /home/biocbuild/bbs-3.21-bioc/R/bin/R CMD check --install=check:SPEM.install-out.txt --library=/home/biocbuild/bbs-3.21-bioc/R/site-library --timings SPEM_1.47.0.tar.gz StartedAt: 2025-02-05 03:05:29 -0500 (Wed, 05 Feb 2025) EndedAt: 2025-02-05 03:06:13 -0500 (Wed, 05 Feb 2025) EllapsedTime: 43.0 seconds RetCode: 0 Status: OK CheckDir: SPEM.Rcheck Warnings: 0