Package: SPEM Version: 1.47.0 Command: rm -rf SPEM.buildbin-libdir && mkdir SPEM.buildbin-libdir && E:\biocbuild\bbs-3.21-bioc\R\bin\R.exe CMD INSTALL --build --library=SPEM.buildbin-libdir SPEM_1.47.0.tar.gz StartedAt: 2025-02-13 08:57:53 -0500 (Thu, 13 Feb 2025) EndedAt: 2025-02-13 08:58:02 -0500 (Thu, 13 Feb 2025) EllapsedTime: 8.7 seconds RetCode: 0 Status: OK PackageFile: SPEM_1.47.0.zip PackageFileSize: 369.3 KiB