Package: SPEM Version: 1.47.0 Command: chmod a+r SPEM -R && E:\biocbuild\bbs-3.21-bioc\R\bin\R.exe CMD build --keep-empty-dirs --no-resave-data SPEM StartedAt: 2025-02-09 21:51:13 -0500 (Sun, 09 Feb 2025) EndedAt: 2025-02-09 21:51:31 -0500 (Sun, 09 Feb 2025) EllapsedTime: 18.2 seconds RetCode: 0 Status: OK PackageFile: SPEM_1.47.0.tar.gz PackageFileSize: 470.1 KiB