Package: SPIA Version: 2.59.2 Command: rm -rf SPIA.buildbin-libdir && mkdir SPIA.buildbin-libdir && /Users/biocbuild/BBS/utils/build-universal.sh SPIA_2.59.2.tar.gz /Library/Frameworks/R.framework/Resources/bin/R SPIA.buildbin-libdir StartedAt: 2025-02-09 22:32:09 -0500 (Sun, 09 Feb 2025) EndedAt: 2025-02-09 22:32:12 -0500 (Sun, 09 Feb 2025) EllapsedTime: 3.1 seconds RetCode: 0 Status: OK PackageFile: SPIA_2.59.2.tgz PackageFileSize: 2.537 MiB