Package: SPIA Version: 2.59.2 Command: /Library/Frameworks/R.framework/Resources/bin/R CMD check --install=check:SPIA.install-out.txt --library=/Library/Frameworks/R.framework/Resources/library --no-vignettes --timings SPIA_2.59.2.tar.gz StartedAt: 2025-02-09 21:32:56 -0500 (Sun, 09 Feb 2025) EndedAt: 2025-02-09 21:35:51 -0500 (Sun, 09 Feb 2025) EllapsedTime: 175.0 seconds RetCode: 0 Status: OK CheckDir: SPIA.Rcheck Warnings: 0