Package: SPIA Version: 2.59.2 Command: /home/biocbuild/R/R/bin/R CMD build --keep-empty-dirs --no-resave-data SPIA StartedAt: 2025-01-28 02:40:36 -0000 (Tue, 28 Jan 2025) EndedAt: 2025-01-28 02:44:34 -0000 (Tue, 28 Jan 2025) EllapsedTime: 238.1 seconds RetCode: 0 Status: OK PackageFile: SPIA_2.59.2.tar.gz PackageFileSize: 2.551 MiB