Package: SPIA Version: 2.59.2 Command: /home/biocbuild/R/R/bin/R CMD INSTALL SPIA StartedAt: 2025-01-29 19:35:22 -0000 (Wed, 29 Jan 2025) EndedAt: 2025-01-29 19:35:50 -0000 (Wed, 29 Jan 2025) EllapsedTime: 27.3 seconds RetCode: 0 Status: OK