Package: SPIA Version: 2.59.2 Command: /home/biocbuild/bbs-3.21-bioc/R/bin/R CMD build --keep-empty-dirs --no-resave-data SPIA StartedAt: 2025-02-09 19:25:30 -0500 (Sun, 09 Feb 2025) EndedAt: 2025-02-09 19:31:33 -0500 (Sun, 09 Feb 2025) EllapsedTime: 363.5 seconds RetCode: 0 Status: OK PackageFile: SPIA_2.59.2.tar.gz PackageFileSize: 2.549 MiB