Package: SPIA Version: 2.59.2 Command: /home/biocbuild/bbs-3.21-bioc/R/bin/R CMD check --install=check:SPIA.install-out.txt --library=/home/biocbuild/bbs-3.21-bioc/R/site-library --timings SPIA_2.59.2.tar.gz StartedAt: 2025-02-10 02:58:13 -0500 (Mon, 10 Feb 2025) EndedAt: 2025-02-10 03:10:25 -0500 (Mon, 10 Feb 2025) EllapsedTime: 732.1 seconds RetCode: 0 Status: OK CheckDir: SPIA.Rcheck Warnings: 0