Package: SPIA Version: 2.59.2 Command: E:\biocbuild\bbs-3.21-bioc\R\bin\R.exe CMD INSTALL SPIA StartedAt: 2025-02-09 15:47:25 -0500 (Sun, 09 Feb 2025) EndedAt: 2025-02-09 15:47:37 -0500 (Sun, 09 Feb 2025) EllapsedTime: 11.6 seconds RetCode: 0 Status: OK