Package: SPLINTER Version: 1.33.0 Command: /Library/Frameworks/R.framework/Resources/bin/R CMD INSTALL SPLINTER StartedAt: 2025-02-09 15:29:29 -0500 (Sun, 09 Feb 2025) EndedAt: 2025-02-09 15:30:37 -0500 (Sun, 09 Feb 2025) EllapsedTime: 68.2 seconds RetCode: 0 Status: OK