Package: SPLINTER Version: 1.33.0 Command: /home/biocbuild/bbs-3.21-bioc/R/bin/R CMD build --keep-empty-dirs --no-resave-data SPLINTER StartedAt: 2025-02-09 19:26:09 -0500 (Sun, 09 Feb 2025) EndedAt: 2025-02-09 19:27:46 -0500 (Sun, 09 Feb 2025) EllapsedTime: 97.1 seconds RetCode: 0 Status: OK PackageFile: SPLINTER_1.33.0.tar.gz PackageFileSize: 961.2 KiB