Package: SPLINTER Version: 1.33.0 Command: rm -rf SPLINTER.buildbin-libdir && mkdir SPLINTER.buildbin-libdir && E:\biocbuild\bbs-3.21-bioc\R\bin\R.exe CMD INSTALL --build --library=SPLINTER.buildbin-libdir SPLINTER_1.33.0.tar.gz StartedAt: 2025-02-13 08:58:31 -0500 (Thu, 13 Feb 2025) EndedAt: 2025-02-13 08:59:45 -0500 (Thu, 13 Feb 2025) EllapsedTime: 74.4 seconds RetCode: 0 Status: OK PackageFile: SPLINTER_1.33.0.zip PackageFileSize: 1.082 MiB