Package: SPLINTER Version: 1.33.0 Command: E:\biocbuild\bbs-3.21-bioc\R\bin\R.exe CMD INSTALL SPLINTER StartedAt: 2025-02-09 16:45:36 -0500 (Sun, 09 Feb 2025) EndedAt: 2025-02-09 16:46:44 -0500 (Sun, 09 Feb 2025) EllapsedTime: 68.0 seconds RetCode: 0 Status: OK