Package: SPONGE Version: 1.29.0 Command: /Library/Frameworks/R.framework/Resources/bin/R CMD INSTALL SPONGE StartedAt: 2025-02-04 15:29:32 -0500 (Tue, 04 Feb 2025) EndedAt: 2025-02-04 15:30:06 -0500 (Tue, 04 Feb 2025) EllapsedTime: 34.1 seconds RetCode: 0 Status: OK