Package: SPONGE Version: 1.29.0 Command: /home/biocbuild/R/R/bin/R CMD check --install=check:SPONGE.install-out.txt --library=/home/biocbuild/R/R/site-library --no-vignettes --timings SPONGE_1.29.0.tar.gz StartedAt: 2025-01-28 15:42:23 -0000 (Tue, 28 Jan 2025) EndedAt: 2025-01-28 15:49:40 -0000 (Tue, 28 Jan 2025) EllapsedTime: 437.6 seconds RetCode: 0 Status: WARNINGS CheckDir: SPONGE.Rcheck Warnings: 8