Package: SPONGE Version: 1.29.0 Command: rm -rf SPONGE.buildbin-libdir && mkdir SPONGE.buildbin-libdir && /Users/biocbuild/BBS/utils/build-universal.sh SPONGE_1.29.0.tar.gz /Library/Frameworks/R.framework/Resources/bin/R SPONGE.buildbin-libdir StartedAt: 2025-02-05 01:04:33 -0500 (Wed, 05 Feb 2025) EndedAt: 2025-02-05 01:06:06 -0500 (Wed, 05 Feb 2025) EllapsedTime: 92.6 seconds RetCode: 0 Status: OK PackageFile: SPONGE_1.29.0.tgz PackageFileSize: 8.727 MiB