Package: SPONGE Version: 1.29.0 Command: /Library/Frameworks/R.framework/Resources/bin/R CMD build --keep-empty-dirs --no-resave-data SPONGE StartedAt: 2025-02-04 18:27:40 -0500 (Tue, 04 Feb 2025) EndedAt: 2025-02-04 18:31:07 -0500 (Tue, 04 Feb 2025) EllapsedTime: 207.2 seconds RetCode: 0 Status: OK PackageFile: SPONGE_1.29.0.tar.gz PackageFileSize: 8.972 MiB