Package: SPONGE Version: 1.29.0 Command: /Library/Frameworks/R.framework/Resources/bin/R CMD INSTALL SPONGE StartedAt: 2025-02-09 15:45:19 -0500 (Sun, 09 Feb 2025) EndedAt: 2025-02-09 15:46:42 -0500 (Sun, 09 Feb 2025) EllapsedTime: 82.5 seconds RetCode: 0 Status: OK