Package: SPONGE Version: 1.29.0 Command: /home/biocbuild/bbs-3.21-bioc/R/bin/R CMD build --keep-empty-dirs --no-resave-data SPONGE StartedAt: 2025-02-04 19:24:21 -0500 (Tue, 04 Feb 2025) EndedAt: 2025-02-04 19:27:24 -0500 (Tue, 04 Feb 2025) EllapsedTime: 183.3 seconds RetCode: 0 Status: OK PackageFile: SPONGE_1.29.0.tar.gz PackageFileSize: 8.943 MiB