Package: SPONGE Version: 1.29.0 Command: /home/biocbuild/bbs-3.21-bioc/R/bin/R CMD check --install=check:SPONGE.install-out.txt --library=/home/biocbuild/bbs-3.21-bioc/R/site-library --timings SPONGE_1.29.0.tar.gz StartedAt: 2025-02-05 03:08:57 -0500 (Wed, 05 Feb 2025) EndedAt: 2025-02-05 03:16:33 -0500 (Wed, 05 Feb 2025) EllapsedTime: 456.6 seconds RetCode: 0 Status: WARNINGS CheckDir: SPONGE.Rcheck Warnings: 5