Package: SPONGE Version: 1.29.0 Command: /home/biocbuild/bbs-3.21-bioc/R/bin/R CMD INSTALL SPONGE StartedAt: 2025-02-04 15:29:05 -0500 (Tue, 04 Feb 2025) EndedAt: 2025-02-04 15:30:21 -0500 (Tue, 04 Feb 2025) EllapsedTime: 75.5 seconds RetCode: 0 Status: OK